BEGIN:VCALENDAR
VERSION:2.0
PRODID:-//FESTIVAL NOVA ARCADA BRAGA BLUES - ECPv6.15.20//NONSGML v1.0//EN
CALSCALE:GREGORIAN
METHOD:PUBLISH
X-WR-CALNAME:FESTIVAL NOVA ARCADA BRAGA BLUES
X-ORIGINAL-URL:https://bragablues.com
X-WR-CALDESC:Eventos para FESTIVAL NOVA ARCADA BRAGA BLUES
REFRESH-INTERVAL;VALUE=DURATION:PT1H
X-Robots-Tag:noindex
X-PUBLISHED-TTL:PT1H
BEGIN:VTIMEZONE
TZID:UTC
BEGIN:STANDARD
TZOFFSETFROM:+0000
TZOFFSETTO:+0000
TZNAME:UTC
DTSTART:20250101T000000
END:STANDARD
END:VTIMEZONE
BEGIN:VEVENT
DTSTART;TZID=UTC:20260515T213000
DTEND;TZID=UTC:20260515T230000
DTSTAMP:20260423T124825
CREATED:20260412T111346Z
LAST-MODIFIED:20260414T181937Z
UID:7402-1778880600-1778886000@bragablues.com
SUMMARY:Budda Guedes & Paulo Gonzo - Blues Sessions - Portuguese Blues Reunion
DESCRIPTION:LOCAL: AUDITÓRIO DO ESPAÇO VITA – Rua de São Domingos\, 94\, Braga\, Portugal. \n\n\n\nCOMPRAR BILHETES\n\n\n\n\n\n\n\nBudda Guedes & Paulo Gonzo dão o arranque à 9ª edição do Nova Arcada Braga Blues\, com um concerto especial no Auditório do Espaço Vita em Braga\,  \n\n\n\nPortuguese Blues Reunion\, é uma imagem de marca do Festival Nova Arcada Braga Blues\, onde Budda Guedes desafia um galáctico da música nacional para fazer um concerto de Blues. O convidado deste ano é Paulo Gonzo\, pioneiro do blues Nacional com a sua Go Graal Blues Band desde 1975.  \n\n\n\nNeste especial concerto estará acompanhado com uma super banda em palco\, esta será uma noite irredutível e inesquecível. \n\n\n\n\n\n\n\nBudda Guedes & Paulo Gonzo kick off the 9th edition of Nova Arcada Braga Blues with a special concert at Espaço Vita in Braga.  \n\n\n\n“Portuguese Blues Reunion” is a hallmark of the Nova Arcada Braga Blues Festival\, where Budda Guedes challenges a legendary figure of the Portuguese music scene to perform a blues concert. This year’s guest is Paulo Gonzo\, a pioneer of Portuguese blues with his Go Graal Blues Band since 1975.  \n\n\n\nIn this special concert\, he will be accompanied by a super band on stage; this will be an unforgettable night. \n\n\n\n\n\n\n\nBudda Guedes y Paulo Gonzo dan el pistoletazo de salida a la 9.ª edición del Nova Arcada Braga Blues con un concierto especial en el Espaço Vita de Braga.  \n\n\n\nPortuguese Blues Reunion es una seña de identidad del Festival Nova Arcada Braga Blues\, en el que Budda Guedes reta a una estrella de la música nacional a ofrecer un concierto de blues. El invitado de este año es Paulo Gonzo\, pionero del blues nacional con su Go Graal Blues Band desde 1975.  \n\n\n\nEn este concierto especial estará acompañado por una superbanda en el escenario; será una noche irrepetible e inolvidable.
URL:https://bragablues.com/event/budda-guedes-paulo-gonzo-blues-sessions-portuguese-blues-reunion/
LOCATION:Espaço Vita\, Rua de São Domingos\, 94\, Braga\, Braga\, 4710-435\, Portugal
ATTACH;FMTTYPE=image/jpeg:https://bragablues.com/wp-content/uploads/2026/04/Facebook-Evento-1000-X-524-PX.jpg
END:VEVENT
END:VCALENDAR